BEGIN:VCALENDAR
VERSION:2.0
PRODID:-//wp-events-plugin.com//7.2.3.1//EN
TZID:Europe/Paris
X-WR-TIMEZONE:Europe/Paris
BEGIN:VEVENT
UID:4@volubilisplus.fr
DTSTART;TZID=Europe/Paris:20190315T204500
DTEND;TZID=Europe/Paris:20190315T204500
DTSTAMP:20190222T021645Z
URL:https://volubilisplus.fr/rencontre/dans-la-peau-de-cyrano-2/
SUMMARY:Dans la peau de Cyrano
DESCRIPTION:Colin fait sa rentrée dans un nouveau collège. Pas facile de 
 passer du monde de l’enfance à celui des grands\, surtout quand on est 
 «différent». La route est semée d’embûches. Mais une rencontre dét
 erminante avec son professeur de théâtre\, figure paternelle et bienveil
 lante\, guidera ses pas vers un nouvel essor\, comme une nouvelle naissanc
 e.\nUn spectacle drôle et poétique où un comédien seul en scène inter
 prète une galerie de personnages hauts en couleur.\nPossibilité de rése
 rver de quoi se restaurer avant seul en scène (Voir réservations).
ATTACH;FMTTYPE=image/jpeg:https://volubilisplus.fr/wp-content/uploads/2019
 /02/affiche-Cyrano.jpg
LOCATION:Espace Liberté\, Espace Liberté\, 18 Rue de la Liberté\, Saint-
 Marcel-Lès-Valence\, 26320\, France
GEO:44.970726;4.952500
X-APPLE-STRUCTURED-LOCATION;VALUE=URI;X-ADDRESS=Espace Liberté\, 18 Rue de
  la Liberté\, Saint-Marcel-Lès-Valence\, 26320\, France;X-APPLE-RADIUS=1
 00;X-TITLE=Espace Liberté:geo:44.970726,4.952500
END:VEVENT
BEGIN:VTIMEZONE
TZID:Europe/Paris
X-LIC-LOCATION:Europe/Paris
BEGIN:STANDARD
DTSTART:20181028T020000
TZOFFSETFROM:+0200
TZOFFSETTO:+0100
TZNAME:CET
END:STANDARD
END:VTIMEZONE
END:VCALENDAR