BEGIN:VCALENDAR
VERSION:2.0
PRODID:-//wp-events-plugin.com//7.2.3.1//EN
TZID:Europe/Paris
X-WR-TIMEZONE:Europe/Paris
BEGIN:VEVENT
UID:34@volubilisplus.fr
DTSTART;TZID=Europe/Paris:20220319T000000
DTEND;TZID=Europe/Paris:20220319T204500
DTSTAMP:20220311T121920Z
URL:https://volubilisplus.fr/rencontre/les-potes-a-marcel-2022/
SUMMARY:Les potes à Marcel
DESCRIPTION:Cette année\, Marcel s'associe au Comedy Palace pour composer 
 un plateau d'humoristes de styles et d'inspirations variés.\n\nQuatre art
 istes\, deux heures de spectacle entrecoupées d'un entracte.\n\n[caption 
 id="attachment_1160" align="alignleft" width="150"] Victor Guesquières[/c
 aption]\n\n[caption id="attachment_1159" align="alignleft" width="150"] Me
 hdi Dix[/caption]\n\n[caption id="attachment_1161" align="alignleft" width
 ="150"] Carlos Flinnroï[/caption]\n\n[caption id="attachment_1162" align=
 "alignleft" width="150"] Sophia Belabbes[/caption]\n\n\n\n\nLes tarifs app
 araitront en cliquant sur les boutons réserver ou acheter en bas de la pa
 ge.\n&nbsp\;\n\n&nbsp\;
LOCATION:Espace Liberté\, Espace Culturel Liberté\, 18 Rue de la Liberté
 \, Saint-Marcel-Lès-Valence\, 26320\, France
GEO:44.970727;4.9525
X-APPLE-STRUCTURED-LOCATION;VALUE=URI;X-ADDRESS=Espace Culturel Liberté\, 
 18 Rue de la Liberté\, Saint-Marcel-Lès-Valence\, 26320\, France;X-APPLE
 -RADIUS=100;X-TITLE=Espace Liberté:geo:44.970727,4.9525
END:VEVENT
BEGIN:VTIMEZONE
TZID:Europe/Paris
X-LIC-LOCATION:Europe/Paris
BEGIN:STANDARD
DTSTART:20211031T020000
TZOFFSETFROM:+0200
TZOFFSETTO:+0100
TZNAME:CET
END:STANDARD
END:VTIMEZONE
END:VCALENDAR