BEGIN:VCALENDAR
VERSION:2.0
PRODID:-//wp-events-plugin.com//7.2.3.1//EN
TZID:Europe/Paris
X-WR-TIMEZONE:Europe/Paris
BEGIN:VEVENT
UID:10@volubilisplus.fr
DTSTART;TZID=Europe/Paris:20191018T204500
DTEND;TZID=Europe/Paris:20191018T204500
DTSTAMP:20190914T182721Z
URL:https://volubilisplus.fr/rencontre/les-pretentieux/
SUMMARY:Les Prétentieux
DESCRIPTION:Durant une heure trente les spectateurs sont emportés dans les
  joutes oratoires des deux comédiens\, avec des textes d’une subtilité
  et d’un humour parfois corrosif mais tout en finesse.\n\nTout y passe :
  l’écriture inclusive\, les politiciens\, le « c’était mieux avant
  » et encore d’autres sujets actuels pour se terminer avec les devenus 
 traditionnels lieux communs des artistes.\n\nUn pur régal de théâtre au
 thentique\, de prouesse littéraire et de jeux de scène délirants. Chava
 ri et Durand\, les 2 complices depuis une vingtaine d'années vont tenter 
 de répondre à cette question\, un brin provocante :\n« Peut-on élever 
 le public autrement qu'avec des rehausseurs ? »\n\n\nPossibilité de dég
 uster une assiette gourmande dès 19h00 (8 €) réservation conseillée (
 0475810450)\n\nL'assiette Gauloise : charcuterie et crudités / l'assiette
  Fraîcheur : céréales et crudités\n\n&nbsp\;\n\n&nbsp\;
LOCATION:Espace Liberté\, Espace Culturel Liberté\, 18 Rue de la Liberté
 \, Saint-Marcel-Lès-Valence\, 26320\, France
GEO:44.970727;4.9525
X-APPLE-STRUCTURED-LOCATION;VALUE=URI;X-ADDRESS=Espace Culturel Liberté\, 
 18 Rue de la Liberté\, Saint-Marcel-Lès-Valence\, 26320\, France;X-APPLE
 -RADIUS=100;X-TITLE=Espace Liberté:geo:44.970727,4.9525
END:VEVENT
BEGIN:VTIMEZONE
TZID:Europe/Paris
X-LIC-LOCATION:Europe/Paris
BEGIN:DAYLIGHT
DTSTART:20190331T030000
TZOFFSETFROM:+0100
TZOFFSETTO:+0200
TZNAME:CEST
END:DAYLIGHT
END:VTIMEZONE
END:VCALENDAR