BEGIN:VCALENDAR
VERSION:2.0
PRODID:-//wp-events-plugin.com//7.2.3.1//EN
TZID:Europe/Paris
X-WR-TIMEZONE:Europe/Paris
BEGIN:VEVENT
UID:21@volubilisplus.fr
DTSTART;TZID=Europe/Paris:20201009T204500
DTEND;TZID=Europe/Paris:20201009T204500
DTSTAMP:20200819T154430Z
URL:https://volubilisplus.fr/rencontre/loverbooke/
SUMMARY:LOVERBOOKÉ\, écrit et interprèté par Bruno Coppens
DESCRIPTION:\nDe Christophe Colomb surgissant pour raconter son échec pate
 nt (il cherchait l’Inde et découvre l’Amérique…) à Jeanne d’Arc
  dont la réussite professionnelle passera par… son incinération\, ce s
 pectacle déjanté fera la part belle à l’ironie\, à la fantaisie verb
 ale et visuelle\, à l’absurdité et la mauvaise foi !Loverbooké\, un c
 oaching chambouleversant par un jongleur fou des mots monté sur ressort.\
 n« Bruno Coppens est un enfant de la bulle. Celle qu’on se fabrique pou
 r s’évader en rêves\, de digressions en divagations\, dechimères en f
 antasme\, de folie en délire.\nIl a la spontanéité vive de l’enfant\,
  le sourire innocemment charmeur et la poésie innée. Ses jouets sont les
  mots. Il les lance dans tous les sens\, les dérange avec ironie\, les al
 lie en complice\, les transforme effrontément pour en faire des noeuds de
  mots qu’il sert et ressert à volonté au public ébaubi. Et ses mots f
 inissent par se jouer de nous\, nous laissant sans voix face à tant d’
 enthousiasme. »\nLe Vif l’Express (Belgique)
LOCATION:Espace Liberté\, Espace Culturel Liberté\, 18 Rue de la Liberté
 \, Saint-Marcel-Lès-Valence\, 26320\, France
GEO:44.970727;4.9525
X-APPLE-STRUCTURED-LOCATION;VALUE=URI;X-ADDRESS=Espace Culturel Liberté\, 
 18 Rue de la Liberté\, Saint-Marcel-Lès-Valence\, 26320\, France;X-APPLE
 -RADIUS=100;X-TITLE=Espace Liberté:geo:44.970727,4.9525
END:VEVENT
BEGIN:VTIMEZONE
TZID:Europe/Paris
X-LIC-LOCATION:Europe/Paris
BEGIN:DAYLIGHT
DTSTART:20200329T030000
TZOFFSETFROM:+0100
TZOFFSETTO:+0200
TZNAME:CEST
END:DAYLIGHT
END:VTIMEZONE
END:VCALENDAR