BEGIN:VCALENDAR
VERSION:2.0
PRODID:-//wp-events-plugin.com//7.2.3.1//EN
TZID:Europe/Paris
X-WR-TIMEZONE:Europe/Paris
BEGIN:VEVENT
UID:11@volubilisplus.fr
DTSTART;TZID=Europe/Paris:20200119T150000
DTEND;TZID=Europe/Paris:20200119T150000
DTSTAMP:20200128T144337Z
URL:https://volubilisplus.fr/rencontre/nicolas-fraissinet-2/
SUMMARY:Glamping pas un radis
DESCRIPTION:Le camping « Terre d’Ecueil » est un lieu alternatif et sol
 idaire\, créé par Hubert dans l'esprit libertaire des années 70. A sa m
 ort\, son fils décide d’en faire un « glamping » branché destiné au
  «bobos» et d’obtenir un label éco-responsable\, afin de le rentabili
 ser. Mais entre les réticences des bénévoles et l’absence de moyens\,
  l’entreprise ne sera pas de tout repos !\n\nLa dernière création de l
 a Compagnie des Mots Coeur\, signée Dominique et Hassan\n\n\n\n&nbsp\;\n\
 n&nbsp\;\n\n&nbsp\;\n\n&nbsp\;\n\n&nbsp\;
LOCATION:Espace Liberté\, Espace Culturel Liberté\, 18 Rue de la Liberté
 \, Saint-Marcel-Lès-Valence\, 26320\, France
GEO:44.970727;4.9525
X-APPLE-STRUCTURED-LOCATION;VALUE=URI;X-ADDRESS=Espace Culturel Liberté\, 
 18 Rue de la Liberté\, Saint-Marcel-Lès-Valence\, 26320\, France;X-APPLE
 -RADIUS=100;X-TITLE=Espace Liberté:geo:44.970727,4.9525
END:VEVENT
BEGIN:VTIMEZONE
TZID:Europe/Paris
X-LIC-LOCATION:Europe/Paris
BEGIN:STANDARD
DTSTART:20191027T020000
TZOFFSETFROM:+0200
TZOFFSETTO:+0100
TZNAME:CET
END:STANDARD
END:VTIMEZONE
END:VCALENDAR