BEGIN:VCALENDAR
VERSION:2.0
PRODID:-//wp-events-plugin.com//7.2.3.1//EN
TZID:Europe/Paris
X-WR-TIMEZONE:Europe/Paris
BEGIN:VEVENT
UID:1@volubilisplus.fr
DTSTART;TZID=Europe/Paris;VALUE=DATE:20190315
DTEND;TZID=Europe/Paris;VALUE=DATE:20190318
DTSTAMP:20190223T140042Z
URL:https://volubilisplus.fr/rencontre/st-marcel-remonte-ses-bretelles/
SUMMARY:St Marcel remonte ses bretelles
DESCRIPTION:3 jours de spectacles d'humour. Vous pouvez réserver un pass p
 our les 3 jours\, ou réserver par spectacle\, en suivant les liens.\n\nVe
 ndredi 15 mars à 20h45 : Dans la peau de Cyrano de et avec Nicolas Devort
 \n\nSamedi 16 mars à 15h :  L'Alchimiste\, spectacle jeune public\, de 
 Thierry Nadalini\n\nSamedi 16 mars à 20h45 : Les potes à Marcel\, platea
 u d'humoristes\n\nDimanche 17 mars à 15h : Le tour du monde en 80 jours\,
  par la Cie Trac'Nart
ATTACH;FMTTYPE=image/jpeg:https://volubilisplus.fr/wp-content/uploads/2019
 /02/MINIATURE-AFFICHE-RENCONTRES-2.jpeg
LOCATION:Espace Liberté\, Espace Culturel Liberté\, 18 Rue de la Liberté
 \, Saint-Marcel-Lès-Valence\, 26320\, France
GEO:44.970727;4.9525
X-APPLE-STRUCTURED-LOCATION;VALUE=URI;X-ADDRESS=Espace Culturel Liberté\, 
 18 Rue de la Liberté\, Saint-Marcel-Lès-Valence\, 26320\, France;X-APPLE
 -RADIUS=100;X-TITLE=Espace Liberté:geo:44.970727,4.9525
END:VEVENT
BEGIN:VTIMEZONE
TZID:Europe/Paris
X-LIC-LOCATION:Europe/Paris
BEGIN:STANDARD
DTSTART:20181028T020000
TZOFFSETFROM:+0200
TZOFFSETTO:+0100
TZNAME:CET
END:STANDARD
END:VTIMEZONE
END:VCALENDAR